BEGIN:VCALENDAR
VERSION:2.0
PRODID:-//Kanu NRW Bezirk 7 - ECPv6.15.20//NONSGML v1.0//EN
CALSCALE:GREGORIAN
METHOD:PUBLISH
X-ORIGINAL-URL:https://kanunrw-bezirk7.de
X-WR-CALDESC:Veranstaltungen für Kanu NRW Bezirk 7
REFRESH-INTERVAL;VALUE=DURATION:PT1H
X-Robots-Tag:noindex
X-PUBLISHED-TTL:PT1H
BEGIN:VTIMEZONE
TZID:Europe/Berlin
BEGIN:DAYLIGHT
TZOFFSETFROM:+0100
TZOFFSETTO:+0200
TZNAME:CEST
DTSTART:20250330T010000
END:DAYLIGHT
BEGIN:STANDARD
TZOFFSETFROM:+0200
TZOFFSETTO:+0100
TZNAME:CET
DTSTART:20251026T010000
END:STANDARD
BEGIN:DAYLIGHT
TZOFFSETFROM:+0100
TZOFFSETTO:+0200
TZNAME:CEST
DTSTART:20260329T010000
END:DAYLIGHT
BEGIN:STANDARD
TZOFFSETFROM:+0200
TZOFFSETTO:+0100
TZNAME:CET
DTSTART:20261025T010000
END:STANDARD
BEGIN:DAYLIGHT
TZOFFSETFROM:+0100
TZOFFSETTO:+0200
TZNAME:CEST
DTSTART:20270328T010000
END:DAYLIGHT
BEGIN:STANDARD
TZOFFSETFROM:+0200
TZOFFSETTO:+0100
TZNAME:CET
DTSTART:20271031T010000
END:STANDARD
END:VTIMEZONE
BEGIN:VEVENT
DTSTART;VALUE=DATE:20260315
DTEND;VALUE=DATE:20260316
DTSTAMP:20260419T182339
CREATED:20260123T120736Z
LAST-MODIFIED:20260123T120736Z
UID:5694-1773532800-1773619199@kanunrw-bezirk7.de
SUMMARY:Bezirkswaldlauf
DESCRIPTION:Siehe Ausschreibung.
URL:https://kanunrw-bezirk7.de/termin/bezirkswaldlauf/
LOCATION:Bootshaus der Wanheimer Kanu Gilde am Wolfssee\, Kalkweg 264\, 47279 Duisburg\, direkt neben dem Freibad Wolfssee\, Kalkweg 264\, Duisburg\, 47279\, Germany
ORGANIZER;CN="Frank Orschel":MAILTO:f.orschel@t-online.de
END:VEVENT
BEGIN:VEVENT
DTSTART;VALUE=DATE:20260322
DTEND;VALUE=DATE:20260323
DTSTAMP:20260419T182339
CREATED:20260123T121301Z
LAST-MODIFIED:20260123T121301Z
UID:5696-1774137600-1774223999@kanunrw-bezirk7.de
SUMMARY:3. Bezirksfahrt auf der Niers Anpaddeln (SUP)
DESCRIPTION:NG 16 km\nMoorenstr.\, 47608 Wachtendonk\nAm Goltenhof\, 47608 Geldern
URL:https://kanunrw-bezirk7.de/termin/3-bezirksfahrt-auf-der-niers-anpaddeln-sup/
LOCATION:Wachtendonk – Geldern\, Moorenstraße\, Wachtendonk\, 47608
ORGANIZER;CN="Ralf Kleckers":MAILTO:kleckersralf@aol.com
END:VEVENT
END:VCALENDAR