BEGIN:VCALENDAR
VERSION:2.0
PRODID:-//Kanu NRW Bezirk 7 - ECPv6.15.20//NONSGML v1.0//EN
CALSCALE:GREGORIAN
METHOD:PUBLISH
X-ORIGINAL-URL:https://kanunrw-bezirk7.de
X-WR-CALDESC:Veranstaltungen für Kanu NRW Bezirk 7
REFRESH-INTERVAL;VALUE=DURATION:PT1H
X-Robots-Tag:noindex
X-PUBLISHED-TTL:PT1H
BEGIN:VTIMEZONE
TZID:Europe/Berlin
BEGIN:DAYLIGHT
TZOFFSETFROM:+0100
TZOFFSETTO:+0200
TZNAME:CEST
DTSTART:20250330T010000
END:DAYLIGHT
BEGIN:STANDARD
TZOFFSETFROM:+0200
TZOFFSETTO:+0100
TZNAME:CET
DTSTART:20251026T010000
END:STANDARD
BEGIN:DAYLIGHT
TZOFFSETFROM:+0100
TZOFFSETTO:+0200
TZNAME:CEST
DTSTART:20260329T010000
END:DAYLIGHT
BEGIN:STANDARD
TZOFFSETFROM:+0200
TZOFFSETTO:+0100
TZNAME:CET
DTSTART:20261025T010000
END:STANDARD
BEGIN:DAYLIGHT
TZOFFSETFROM:+0100
TZOFFSETTO:+0200
TZNAME:CEST
DTSTART:20270328T010000
END:DAYLIGHT
BEGIN:STANDARD
TZOFFSETFROM:+0200
TZOFFSETTO:+0100
TZNAME:CET
DTSTART:20271031T010000
END:STANDARD
END:VTIMEZONE
BEGIN:VEVENT
DTSTART;TZID=Europe/Berlin:20260221T100000
DTEND;TZID=Europe/Berlin:20260221T130000
DTSTAMP:20260419T215026
CREATED:20251111T160413Z
LAST-MODIFIED:20251111T160413Z
UID:5669-1771668000-1771678800@kanunrw-bezirk7.de
SUMMARY:Sicherheitsschulung
DESCRIPTION:Wir laden ein zur o.g. Präventionsveranstaltung um 10.00 Uhr beim KC Friedrichsfeld\, Gehrstraße 25\, 46562 Friedrichsfeld.\nDie Veranstaltung umfasst 3 Teile: \n\nVerhalten von Kanuten auf Gewässern mit Großschifffahrt\n(Kriminalhauptkommissar Thomas Vetter)\nWas passiert wenn ? Versicherungstechnische Probleme bei Unfällen auf Großschifffahrtsstraßen\n(Havariekommisar Carsten Beese von der Fa. Peterman GmbH)\nSicherheit beim Ein- und Ausfahren auf dem Rhein\n(Dieter Schürmann von der Kanuschule KV NRW)\n\nDie Schulung dauert ca. 3 Stunden
URL:https://kanunrw-bezirk7.de/termin/sicherheitsschulung/
LOCATION:KC Friedrichsfeld\, Gehrstraße 25\, Friedrichsfeld\, 46562\, Germany
CATEGORIES:Lehrgänge
ORGANIZER;CN="Frank Orschel":MAILTO:f.orschel@t-online.de
END:VEVENT
END:VCALENDAR